BEGIN:VCALENDAR
VERSION:2.0
PRODID:-//Focus: HOPE - ECPv6.15.20//NONSGML v1.0//EN
CALSCALE:GREGORIAN
METHOD:PUBLISH
X-WR-CALNAME:Focus: HOPE
X-ORIGINAL-URL:https://www.focushope.edu
X-WR-CALDESC:Events for Focus: HOPE
REFRESH-INTERVAL;VALUE=DURATION:PT1H
X-Robots-Tag:noindex
X-PUBLISHED-TTL:PT1H
BEGIN:VTIMEZONE
TZID:America/Detroit
BEGIN:DAYLIGHT
TZOFFSETFROM:-0500
TZOFFSETTO:-0400
TZNAME:EDT
DTSTART:20230312T070000
END:DAYLIGHT
BEGIN:STANDARD
TZOFFSETFROM:-0400
TZOFFSETTO:-0500
TZNAME:EST
DTSTART:20231105T060000
END:STANDARD
BEGIN:DAYLIGHT
TZOFFSETFROM:-0500
TZOFFSETTO:-0400
TZNAME:EDT
DTSTART:20240310T070000
END:DAYLIGHT
BEGIN:STANDARD
TZOFFSETFROM:-0400
TZOFFSETTO:-0500
TZNAME:EST
DTSTART:20241103T060000
END:STANDARD
BEGIN:DAYLIGHT
TZOFFSETFROM:-0500
TZOFFSETTO:-0400
TZNAME:EDT
DTSTART:20250309T070000
END:DAYLIGHT
BEGIN:STANDARD
TZOFFSETFROM:-0400
TZOFFSETTO:-0500
TZNAME:EST
DTSTART:20251102T060000
END:STANDARD
END:VTIMEZONE
BEGIN:VEVENT
DTSTART;TZID=America/Detroit:20240905T100000
DTEND;TZID=America/Detroit:20240905T130000
DTSTAMP:20260423T102312
CREATED:20240805T164934Z
LAST-MODIFIED:20240805T164934Z
UID:18094-1725530400-1725541200@www.focushope.edu
SUMMARY:Wayne State Mobile Health Unit
DESCRIPTION:
URL:https://www.focushope.edu/event/wayne-state-mobile-health-unit/
LOCATION:Westside Food Center\, 1300 Oakman Blvd\, Detroit\, MI\, 48238\, United States
END:VEVENT
BEGIN:VEVENT
DTSTART;TZID=America/Detroit:20240905T110000
DTEND;TZID=America/Detroit:20240905T113000
DTSTAMP:20260423T102312
CREATED:20240805T162551Z
LAST-MODIFIED:20240805T162812Z
UID:18087-1725534000-1725535800@www.focushope.edu
SUMMARY:Food for Seniors Tour- Ypsilanti
DESCRIPTION:The Food for Seniors tour is coming to Ypsilanti! Seniors aged 60 and over that are residents of Wayne\, Oakland\, Macomb\, or Washtenaw county will have the opportunity to attend the pop-up event which includes learning more about the Food for Seniors program\, register and connect with the Focus: HOPE food team!
URL:https://www.focushope.edu/event/food-for-seniors-tour-ypsilanti-2/
LOCATION:Ypsilanti Community Center\, 2025 E. Clark Road\, Ypsilanti\, MI\, 48198\, United States
END:VEVENT
END:VCALENDAR