BEGIN:VCALENDAR
VERSION:2.0
PRODID:-//Focus: HOPE - ECPv6.15.20//NONSGML v1.0//EN
CALSCALE:GREGORIAN
METHOD:PUBLISH
X-WR-CALNAME:Focus: HOPE
X-ORIGINAL-URL:https://www.focushope.edu
X-WR-CALDESC:Events for Focus: HOPE
REFRESH-INTERVAL;VALUE=DURATION:PT1H
X-Robots-Tag:noindex
X-PUBLISHED-TTL:PT1H
BEGIN:VTIMEZONE
TZID:America/Detroit
BEGIN:DAYLIGHT
TZOFFSETFROM:-0500
TZOFFSETTO:-0400
TZNAME:EDT
DTSTART:20230312T070000
END:DAYLIGHT
BEGIN:STANDARD
TZOFFSETFROM:-0400
TZOFFSETTO:-0500
TZNAME:EST
DTSTART:20231105T060000
END:STANDARD
BEGIN:DAYLIGHT
TZOFFSETFROM:-0500
TZOFFSETTO:-0400
TZNAME:EDT
DTSTART:20240310T070000
END:DAYLIGHT
BEGIN:STANDARD
TZOFFSETFROM:-0400
TZOFFSETTO:-0500
TZNAME:EST
DTSTART:20241103T060000
END:STANDARD
BEGIN:DAYLIGHT
TZOFFSETFROM:-0500
TZOFFSETTO:-0400
TZNAME:EDT
DTSTART:20250309T070000
END:DAYLIGHT
BEGIN:STANDARD
TZOFFSETFROM:-0400
TZOFFSETTO:-0500
TZNAME:EST
DTSTART:20251102T060000
END:STANDARD
END:VTIMEZONE
BEGIN:VEVENT
DTSTART;TZID=America/Detroit:20240828T093000
DTEND;TZID=America/Detroit:20240828T133000
DTSTAMP:20260423T100638
CREATED:20240805T164034Z
LAST-MODIFIED:20240805T173827Z
UID:18088-1724837400-1724851800@www.focushope.edu
SUMMARY:Health Fair
DESCRIPTION:Focus: HOPE’s Center for Children is hosting an August health fair on Wednesday\, August 28th. Various health screenings will be available to adults and children including but not limited to immunizations\, dental exams\, lead testing\, and well-child exams.
URL:https://www.focushope.edu/event/health-fair/
LOCATION:Center for Children\, 1550 Oakman Blvd\, Detroit\, MI\, 48238\, United States
END:VEVENT
END:VCALENDAR